Workbook

Sheet 志願書
F1: 2027年度春期 新潟大学国際交流センター交換留学プログラム志願書 Application for the Program for Exchange Students at International Exchange Center, Niigata University Spring Semester 2027 | AD1: 写真を貼って ください Paste your photo here 4cm x 3cm
A9: <1> 基本情報 Applicant’s Information
A10: 氏名 Full Name | L10: 姓 Family Name | T10: 名 Given Name | AB10: ミドルネーム Middle Name
A13: アルファベット （パスポートの表記） in Roman alphabets as on Passport
A16: カタカナ（漢字名の場合はピンインによる） Japanese katakana, if possible. Please write in katakana by pinyin. (e.g. 王→ワン 張→チャン)
A19: 漢字 Chinese characters, if applicable
A22: 国籍 Nationality
A24: パスポート記載の性別 Sex as inscribed on Passport
A26: 生年月日 Date of Birth | L26: 年 Year | T26: 月 Month | AB26: 日 Day
A29: 現在の住所 Present Address
A32: 電話番号 Phone Number
A34: Ｅメールアドレス E-mail Address
A37: <2> 留学期間 Period of Study
A38: 新潟大学での希望留学期間 Intended Period of study at Niigata University
A42: <3> 所属大学 Home University
A43: 所属大学 Home university
A45: 学部生・院生Undergraduate or Graduate
A47: 所属する部局の正式名称（英字） Official Name of Department / School in English
A49: 専攻 Major
A51: 入学年月 Month/Year of Admission to home university | T51: 年 Year | AB51: 月 Month
A54: プログラム開始時の学年 School Grade at the start of this program | T54: 学年 Grade
T55: 6th year / 6年
A57: 卒業予定年月 Intended Month/Year of graduation from home university | T57: 年 Year | AB57: 月 Month
A61: <4> 授業料 Tuition Fees
A62: 新潟大学での授業料 （必ず所属大学に確認してください） Tuition Fees at Niigata University (Make sure to check with your home university)
A68: <5> 所属大学での成績 Academic Records at Home University
A69: 成績評価係数 Grade Points
A72: 所定の計算式により計算してください。Use NU’s designated calculation formula.
A73: 通常のGPAとは異なりますので注意してください。ポイントが3.00 を超えることはありません。 Grade points by this designated formula differ from a regular GPA. Points do not exceed 3.00. 小数点第２位まで記入してください。 (小数点第3位は四捨五入) Points must be rounded to the second decimal place.
A79: <6> 大学院生の参加条件 Conditions for Graduate Students
A80: 国際交流センターに応募する大学院生のみ，以下の事項に承諾し，✔印を記入してください。 Graduate students shall agree to the following conditions upon application and tick ✔the box below:
A83: ① 国際交流センターに所属する大学院生は，原則，各大学院が開講する科目を聴講することはできません。 ② 国際交流センターに所属する大学院生に対して，専門分野を指導する指導教員はいません。 1. Graduate-level students enrolled in International Exchange Center are not allowed to take subjects offered by graduate schools as a general rule. 2. No academic advisor will be assigned to supervise study of their specialization/major for graduate students enrolled in International Exchange Center.
A91: FALSE | I91: 上記の条件１及び２に承諾したうえで、左記に✔印を記入します。 I agree to the conditions 1 and 2 above, and put ✔ in the box to the left.
A95: <7> 緊急連絡先 Emergency Contact Information
A96: 緊急連絡先 Person to be Notified in Case of Emergency
A98: 氏名 Full Name
A100: 住所 Address
A103: 申請者との関係 Relationship to the Applicant
A105: 電話番号 Phone Number
A107: Ｅメールアドレス E-mail Address
A110: <8> 日本への留学経験 Study Experiences in Japan
A111: 日本へ留学をしたことがありますか。 Have you ever studied in Japan?
A113: 過去に日本へ留学したことがある場合は、下記に留学先機関名と留学期間を記入してください。 If yes, please provide the name of the institution you attended and the period of study.
A116: 留学先機関名 Institution
A118: 留学期間 Period of Study | N118: From | Y118: To
A121: <9> 日本語能力 Japanese Proficiency
A122: 日本語能力の自己評価 Self-evaluation of Japanese Proficiency 日本語能力試験 (日本国際教育支援協会と国際交流基金が主催)の『N1～N5：認定の目安』を参照し、日本語力を自己評価してください。
A126: Please refer to “A summary of linguistic competence required for each level” on the website of Japanese Language Proficiency Test (by the Japan Foundation and Japan Educational Exchanges and Services). https://www.jlpt.jp/e/about/levelsummary.html
A130: https://www.jlpt.jp/about/levelsummary.html
A131: 自らのレベルを最も適切に表すＪＬＰＴのレベル The JLPT levels that most appropriately expresses your level.
A135: <10> 英語能力 English Proficiency
A136: 英語能力の自己評価 Self-evaluation of English Proficiency 以下のCEFRのレベル表を参照し自己評価してください。 Refer to “Global scale - Table 1 (CEFR 3.3): Common Reference levels” to self-evaluate your proficiency level:
A141: Website by Council of Europe: | M141: Global scale - Table 1 (CEFR 3.3): Common Reference levels
A142: 自らのレベルを最も適切に表すＣＥＦＲのレベル The CEFR levels that most appropriately expresses your level.
A146: <11> JASSO奨学金 JASSO scholarship
A147: 奨学金の受給希望確認 Confirmation of scholarship application
A149: 希望しても必ず採用されるわけではありません。Applying for the scholarship does not guarantee that you will receive it.
A153: <12> 応募した動機・目的 Reasons for Applying
A154: ・新潟大学で学びたいことと、自分の大学で学んできたこと及び自分の大学に戻った後学びたいこととの関係 ・自分の将来との関係では、今回の留学はどのように位置付けられるのか。 ・Describe your study plan at Niigata University, and how it is related to what you have so far studied at your university as well as to your study plans after returning to your university. ・How this opportunity is related to your overall future plans after graduation.
A161: （日本語800字程度/About 400 words in English）
A200: <13> 新潟大学で学習したい分野・計画 Learning plan at Niigata University
A201: ・新潟大学で学ぼうとすることの実現のために、どのような科目を履修しようとするのか。 ・科目の履修以外にどのような活動を計画しているか。 ※2学期間留学する学生の場合、1学期目と2学期目を分けて書く。 ・Subjects you plan to take in order to realize objectives of your study at Niigata University. ・Any other activities that you plan to participate in, if there is any. ※If you plan to study for two semesters, please write separately for each semester.
A208: （日本語800字程度/About 400 words in English）

Sheet リスト
B1: 性別 | D1: 学部・院生 | F1: 国籍 | I1: 年 | J1: 月日 | L1: 留学期間
B2: Male / 男性 | D2: Undergraduate / 学部 | F2: Afghanistan / アフガニスタン | G2: 211 | I2: 1970 | J2: 1 | L2: 1セメスター （2027年4月～2027年8月） 1 semester (April 2027 – August 2027)
B3: Female / 女性 | D3: Graduate / 大学院 | F3: Albania / アルバニア | G3: 727 | I3: 1971 | J3: 2 | L3: 2セメスター （2027年4月～2028年2月） 2 semesters (April 2027 – February 2028)
B4: Other / その他 | D4: 日本語レベル | F4: Algeria / アルジェリア | G4: 305 | I4: 1972 | J4: 3 | L4: 授業料
D5: N1 | F5: Andorra / アンドラ公国 | G5: 741 | I5: 1973 | J5: 4 | L5: Tuition fees will be waived (for Exchange Students) / 不徴収（交換留学）
B6: ある YES | D6: N2 | F6: Antigua and Barbuda / アンティグア・バーブーダ | G6: 623 | I6: 1974 | J6: 5 | L6: Tuition fees will NOT be waived (for Self-sponsored Students) / 自己負担（私費留学）
B7: ない NO | D7: N3 | F7: Argentina / アルゼンチン | G7: 611 | I7: 1975 | J7: 6 | L7: 申請人との関係
D8: N4 | F8: Armenia / アルメニア | G8: 771 | I8: 1976 | J8: 7 | L8: 父（Father）
B9: 学年 | D9: N5 | F9: Australia / オーストラリア | G9: 401 | I9: 1977 | J9: 8 | L9: 母（Mother）
B10: 1st year / 1年 | D10: Below N5 – Beginner | F10: Austria / オーストリア | G10: 718 | I10: 1978 | J10: 9 | L10: 祖父（Grandfather）
B11: 2nd year / 2年 | D11: 英語レベル | F11: Azerbaijan / アゼルバイジャン | G11: 753 | I11: 1979 | J11: 10 | L11: 祖母（Grandmother）
B12: 3rd year / 3年 | D12: C2 | F12: Bahamas / バハマ | G12: 622 | I12: 1980 | J12: 11 | L12: 叔父（伯父）（Uncle）
B13: 4th year / 4年 | D13: C1 | F13: Bahrain / バーレーン | G13: 215 | I13: 1981 | J13: 12 | L13: 叔母（伯母）（Aunt）
B14: 5th year / 5年 | D14: B2 | F14: Bangladesh / バングラデシュ | G14: 104 | I14: 1982 | J14: 13 | L14: 養父（Foster father）
B15: 6th year / 6年 | D15: B1 | F15: Barbados / バルバドス | G15: 624 | I15: 1983 | J15: 14 | L15: 養母（Foster mother）
D16: A2 | F16: Belarus / ベラルーシ | G16: 736 | I16: 1984 | J16: 15 | L16: 兄弟（Brother）
D17: A1 | F17: Belgium / ベルギー | G17: 708 | I17: 1985 | J17: 16 | L17: 姉妹（Sister）
F18: Belize / ベリーズ | G18: 632 | I18: 1986 | J18: 17 | L18: 夫（Husband）
F19: Benin / ベナン | G19: 328 | I19: 1987 | J19: 18 | L19: 妻（Wife）
F20: Bhutan / ブータン | G20: 118 | I20: 1988 | J20: 19 | L20: 友人・知人（Friend / Acquaintance）
F21: Bolivia / ボリビア | G21: 613 | I21: 1989 | J21: 20 | L21: 友人・知人の親族（Relative of friend / acquaintance）
F22: Bosnia and Herzegovina / ボスニア・ヘルツェゴビナ | G22: 740 | I22: 1990 | J22: 21 | L22: 奨学金
F23: Botswana / ボツワナ | G23: 354 | I23: 1991 | J23: 22 | L23: JASSO奨学金の受給を希望する I want to apply for JASSO scholarship
F24: Brazil / ブラジル | G24: 608 | I24: 1992 | J24: 23 | L24: JASSO奨学金の受給を希望しないI do not want to apply for JASSO scholarship
F25: Brunei Darussalam / ブルネイ | G25: 120 | I25: 1993 | J25: 24
F26: Bulgaria / ブルガリア | G26: 726 | I26: 1994 | J26: 25
F27: Burundi / ブルンジ | G27: 376 | I27: 1995 | J27: 26
F28: Cambodia / カンボジア | G28: 117 | I28: 1996 | J28: 27
F29: Cameroon / カメルーン | G29: 315 | I29: 1997 | J29: 28
F30: Canada / カナダ | G30: 501 | I30: 1998 | J30: 29
F31: Central African Republic / 中央アフリカ | G31: 327 | I31: 1999 | J31: 30
F32: Chad / チャド | G32: 379 | I32: 2000 | J32: 31
F33: Chile / チリ | G33: 612 | I33: 2001
F34: China / 中国 | G34: 116 | I34: 2002
F35: Colombia / コロンビア | G35: 616 | I35: 2003
F36: Comoros / コモロ | G36: 352 | I36: 2004
F37: Cook Islands / クック諸島 | G37: 415 | I37: 2005
F38: Costa Rica / コスタリカ | G38: 605 | I38: 2006
F39: Cote d'Ivoire / コートジボワール | G39: 317 | I39: 2007
F40: Croatia / クロアチア | G40: 737 | I40: 2008
F41: Cuba / キューバ | G41: 606 | I41: 2009
F42: Cyprus / キプロス | G42: 773 | I42: 2010
F43: Czech Republic / チェコ | G43: 722 | I43: 2011
F44: Democratic Republic of the Congo / コンゴ民主共和国 | G44: 309 | I44: 2012
... F82: Israel / イスラエル | G82: 206 | I82: 2050
F83: Italy / イタリア | G83: 715
F84: Jamaica / ジャマイカ | G84: 620
F85: Japan / 日本 | G85: 123
F86: Jordan / ヨルダン | G86: 207
F87: Kazakhstan / カザフスタン | G87: 735
F88: Kenya / ケニア | G88: 307
F89: Kiribati / キリバス | G89: 410
F90: Kuwait / クウェート | G90: 209
F91: Kyrgyzstan / キルギス | G91: 752
F92: Laos / ラオス | G92: 119
F93: Latvia / ラトビア | G93: 730
F94: Lebanon / レバノン | G94: 205
... F129: Oman / オマーン | G129: 216
F130: Others / その他
F131: Pakistan / パキスタン | G131: 101
F132: Palau / パラオ | G132: 405
F133: Palestine / パレスチナ | G133: 212
F134: Panama / パナマ | G134: 619
F135: Papua New Guinea / パプアニューギニア | G135: 403
F136: Paraguay / パラグアイ | G136: 609
F137: Peru / ペルー | G137: 614
F138: Philippines / フィリピン | G138: 111
F139: Poland / ポーランド | G139: 721
F140: Portugal / ポルトガル | G140: 714
F141: Qatar / カタール | G141: 251
F142: Republic of Congo / コンゴ共和国 | G142: 314
... F196: Zimbabwe / ジンバブエ | G196: 323

Sheet 学生名簿作成用
F1: 固定 | G1: 固定 | H1: 在籍予定期間
A2: No. | B2: 氏名（英字） | C2: 氏名（カタカナ） | D2: フリガナ （修正後） | E2: 氏名（漢字） | F2: 新潟大学での所属部局 | G2: 新潟大学での身分 | H2: 自 | I2: 至 | J2: 国籍 | K2: 国籍コード | L2: 本国での所属大学 (英語名) | M2: 本国での所属大学 | N2: 出願サイト | O2: 1学期 2学期 | P2: 推薦順位 | Q2: 奨学金順位 | R2: 志願書 | S2: 在籍証明書 | T2: 成績証明書 | U2: 健康診断書 | V2: 評価係数 (本人記入） | W2: 評価係数 | X2: パスポート写し | Y2: 経費本人名義口座残高証明書 | Z2: 経費支弁者証明書 | AA2: 状態 | AB2: 学部生 | AC2: 院生 | AD2: 書類について 確認すること 黄色＝確認中 ピンク＝対応済み | AE2: メールアドレス | AF2: 在籍番号 | AG2: 学務情報アドレス | AH2: 専攻 | AI2: 生年月日 | AJ2: 年齢 | AK2: 性別 | AL2: 性別コード | AM2: 辞退者 COE返納日 | AN2: COE受領 | AO2: COE写しメール送付
B3: =UPPER(志願書!L13)&" "&UPPER(LEFT(志願書!T13,1))&LOWER(MID(志願書!T13,2,99))&" "&UPPER(LEFT(志願書!AB13,1))&LOWER(MID(志願書!AB13,2,99)) | C3: =志願書!L16&" "&志願書!T16&" "&志願書!AB16 | E3: =志願書!L19&" "&志願書!T19 | F3: 国際交流センター | G3: 特別聴講学生 | H3: 46285 | I3: =IF(ISNUMBER(SEARCH("1セメスター",志願書!A39)),"2027/8/31",IF(ISNUMBER(SEARCH("2セメスター",志願書!A39)),"2028/2/28","")) | J3: =VLOOKUP(志願書!L22,リスト!F:F,2,0) -> #N/A | K3: =VLOOKUP(志願書!L22,リスト!F:G,3,0) -> #N/A | O3: =IF(ISNUMBER(SEARCH("1セメスター",志願書!A39)),"1",IF(ISNUMBER(SEARCH("2セメスター",志願書!A39)),"2","")) | V3: =志願書!AA69 -> 0 | AB3: =IF(ISNUMBER(SEARCH("学部",志願書!T45)),"●","") | AC3: =IF(ISNUMBER(SEARCH("大学院",志願書!T45&"")),"●","") | AE3: =志願書!L34 -> 0 | AI3: =DATE(志願書!L27,志願書!T27,志願書!AB27) -> #NUM! | AJ3: =DATEDIF(AI3,H3,"y") -> #NUM! | AK3: =IF(ISNUMBER(SEARCH("男性",志願書!L24)),"男",IF(ISNUMBER(SEARCH("女性",志願書!L24)),"女","")) | AL3: =IF(ISNUMBER(SEARCH("男",AK3)),1,IF(ISNUMBER(SEARCH("女",AK3)),2,""))
AH4: =志願書!T49 -> 0

Sheet 2026秋_全情報 (2026.5.18更新) 
A1: 2026年度秋期 新潟大学国際交流センター交換留学プログラム
A2: No. | B2: 氏名 （姓は大文字、名は最初の一文字は大文字、他は小文字） 学務情報システム用 | C2: 氏名（カタカナ）申請書どおり | D2: フリガナ （修正後） | E2: 氏名（漢字） | F2: 新潟大学での所属部局 | G2: 新潟大学での身分 | H2: 在籍予定期間 | J2: 国籍 | K2: 国籍コード | L2: 本国での所属大学 (英語名) | M2: 本国での所属大学 | N2: 出願時確認 | AA2: 顔写真 | AD2: 書類について 確認すること 黄色＝確認中 ピンク＝対応済み | AE2: メールアドレス | AF2: 在籍番号 | AG2: 学務情報アドレス | AH2: 専攻 | AI2: 生年月日 | AJ2: 年齢 | AK2: 性別 | AL2: 性別コード | AM2: 辞退者 COE返納日 | AN2: COE受領 | AO2: COE写しメール送付
H3: 自 | I3: 至 | N3: 出願サイト | O3: 1学期 2学期 | P3: 推薦順位 | Q3: 奨学金順位 | R3: 志願書 | S3: 在籍証明書 | T3: 成績証明書 | U3: 健康診断書 | V3: 評価係数 (本人記入） | W3: 評価係数 | X3: パスポート写し | Y3: 経費本人名義口座残高証明書 | Z3: 経費支弁者証明書 | AA3: 状態 | AB3: 学部生 | AC3: 院生
A4: 1 | B4: LIU Tzu-Ching | C4: リュウ シセイ | D4: リュウ ツーチン | E4: 劉 梓靖 | F4: 国際交流センター | G4: 特別聴講学生 | H4: 46285 | I4: 46446 | J4: 台湾 | K4: 122 | L4: National Central University | M4: 国立中央大学 | N4: ● | O4: 1 | P4: 1 | Q4: 1 | R4: ● | S4: ● | T4: ● | U4: ● | V4: 2.74 | W4: 2.67 | X4: ● | Y4: ● | AC4: ● | AD4: 推薦状→奨学金希望、申請書→奨学金希望無。卒業予定月が違う。健康診断書見切れ。CoE高校記載・年収記載なし。 | AE4: b0987259736@gmail.com | AH4: 計算科学 | AI4: 36834 | AJ4: =DATEDIF(AI4,H4,"y") -> 25 | AK4: 男 | AL4: 1
A5: 2 | B5: LIN Yi-An | C5: リン イーアン | D5: リン イーアン | E5: 林 奕安 | F5: 国際交流センター | G5: 特別聴講学生 | H5: 46285 | I5: 46446 | J5: 台湾 | K5: 122 | L5: Soochow University | M5: 東呉大学 | N5: ● | O5: 1 | P5: 1 | Q5: 1 | R5: ● | S5: ● | T5: ● | U5: ● | V5: 2.74 | W5: 2.56 | X5: ● | Y5: ● | AB5: ● | AD5: 健康診断書遅れる。CoE高校記載なし。経費支弁額本人負担75,000円 | AE5: aa0958199630@gmail.com | AH5: 会計学 | AI5: 38916 | AJ5: =DATEDIF(AI5,H5,"y") -> 20 | AK5: 男 | AL5: 1
A6: 3 | B6: KO Jen-Fu | C6: コー ジェンフー | D6: コー ジェンフー | E6: 柯 人輔 | F6: 国際交流センター | G6: 特別聴講学生 | H6: 46285 | I6: 46446 | J6: 台湾 | K6: 122 | L6: Soochow University | M6: 東呉大学 | N6: ● | O6: 1 | P6: 2 | Q6: 2 | R6: ● | S6: ● | T6: ● | U6: ● | V6: 2.65 | W6: 2.65 | X6: ● | Y6: ● | AB6: ● | AD6: 写真なし→提出。推薦状と申請書の卒業予定月が違う→推薦状が正しい。GPA2.09。推薦状と計画書の提出を依頼。 | AE6: frank930224@gmail.com | AH6: 経営学 | AI6: 38041 | AJ6: =DATEDIF(AI6,H6,"y") -> 22 | AK6: 男 | AL6: 1
A7: 4 | B7: MAUS Lukas | D7: マウス ルーカス | F7: 国際交流センター | G7: 特別聴講学生 | H7: 46285 | I7: 46446 | J7: ドイツ | K7: 711 | L7: Technical University of Darmstadt | M7: ダルムシュタット工科大学 | N7: ● | O7: 1 | P7: 1 | Q7: × | R7: ● | S7: ● | T7: ● | V7: × | W7: 1.73 | X7: ● | AC7: ● | AD7: 締切後提出。カタカナ名なし。推薦状と申請書の卒業予定年月・奨学金受給希望が違う。CoE2p・3p記載なし。健康診断遅れる。残高証明書遅れる。写真遅れる。GPA1.73。推薦状と計画書の提出を依頼。 | AE7: lukas.maus@stud.tu-darmstadt.de | AH7: 電気工学 | AI7: 2001/10/01 | AJ7: =DATEDIF(AI7,H7,"y") -> 24 | AK7: 男 | AL7: 1
A8: 4 | B8: LEE Mijin | C8: イ ミジン | D8: イ ミジン | F8: 国際交流センター | G8: 特別聴講学生 | H8: 46285 | I8: 46446 | J8: 韓国 | K8: 113 | L8: Inha University | M8: 仁荷大学 | N8: ● | O8: 1 | P8: 1 | Q8: 1 | R8: ● | S8: ● | T8: ● | U8: ● | V8: 2.42 | W8: 3 | X8: ● | Y8: ● | AB8: ● | AD8: 推薦状と申請書の卒業予定年月が違う→推薦状が正しい。CoE手書き。 | AE8: mijin9010@naver.com | AH8: ロジスティックス | AI8: 38057 | AJ8: =DATEDIF(AI8,H8,"y") -> 22 | AK8: 女 | AL8: 2
A9: 5 | B9: KIM Jongwoo | C9: キム ジョンウ | D9: キム ジョンウ | E9: 金 鍾宇 | F9: 国際交流センター | G9: 特別聴講学生 | H9: 46285 | I9: 46446 | J9: 韓国 | K9: 113 | L9: Inha University | M9: 仁荷大学 | N9: ● | O9: 1 | P9: 2 | Q9: 2 | R9: ● | S9: ● | T9: ● | U9: ● | V9: 3 | W9: 3 | X9: ● | Y9: ● | AB9: ● | AD9: 推薦状と申請書の卒業予定月が違う→推薦状が正しい。CoE高校記載なし。 | AE9: setsunai8@naver.com | AH9: 電気電子工学 | AI9: 38274 | AJ9: =DATEDIF(AI9,H9,"y") -> 21 | AK9: 男 | AL9: 1
A10: 6 | B10: KOHNEN Hannah | C10: コーネン ハンナ | D10: コーネン ハンナ | F10: 国際交流センター | G10: 特別聴講学生 | H10: 46285 | I10: 46446 | J10: ドイツ | K10: 711 | L10: University of Munster | M10: ミュンスター大学 | N10: ● | O10: 1 | P10: 1 | Q10: 1 | R10: ● | S10: ● | T10: ● | U10: ● | V10: 2.75 | W10: 2.88 | X10: ● | Y10: ● | AB10: ● | AD10: カタカナ名なし。 | AE10: hkohnen@uni-muenster.de | AH10: コミュニケーション科学 | AI10: 37731 | AJ10: =DATEDIF(AI10,H10,"y") -> 23 | AK10: 女 | AL10: 2
A11: 7 | B11: CHEN Tzu-Yu | C11: チェン ズーヨウ | D11: チェン ツーユー | E11: 陳 姿佑 | F11: 国際交流センター | G11: 特別聴講学生 | H11: 46285 | I11: 46446 | J11: 台湾 | K11: 122 | L11: Feng Chia University | M11: 逢甲大学 | N11: ● | O11: 1 | P11: 1 | Q11: 1 | R11: ● | S11: ● | T11: ● | U11: ● | V11: 3 | W11: 3 | X11: ● | Y11: ● | AB11: ● | AE11: jeyney1182@gmail.com | AH11: 国際経営学 | AI11: 38296 | AJ11: =DATEDIF(AI11,H11,"y") -> 21 | AK11: 女 | AL11: 2
A12: 8 | B12: GUO Jhen-Yu | C12: クォ ジェン ユィ | D12: グオ ジェンユー | E12: 郭 貞諭 | F12: 国際交流センター | G12: 特別聴講学生 | H12: 46285 | I12: 46446 | J12: 台湾 | K12: 122 | L12: Feng Chia University | M12: 逢甲大学 | N12: ● | O12: 1 | P12: 2 | Q12: 2 | R12: ● | S12: ● | T12: ● | U12: ● | V12: 2.53 | W12: 2.58 | X12: ● | Y12: ● | AB12: ● | AD12: 推薦状→奨学金希望、申請書→奨学金希望無。CoE2P・3P記載なし。 | AE12: anime94940@gmail.com | AH12: 化学工学 | AI12: 38342 | AJ12: =DATEDIF(AI12,H12,"y") -> 21 | AK12: 男 | AL12: 1
A13: 10 | B13: LANGE Nils | C13: ランゲ ニルス | F13: 自然科学研究科 | G13: 特別聴講学生 | H13: 46285 | I13: 46630 | J13: ドイツ | K13: 711 | L13: Otto von Guericke University Magdeburg | M13: マグデブルク・オットーフォンゲーリック大学 | N13: × | O13: 2 | P13: 1 | Q13: 1 | R13: ● | S13: ● | T13: ● | U13: ● | V13: 3 | W13: 3 | X13: ● | Y13: ● | AC13: ● | AD13: 推薦状と申請書の卒業予定月が違う→推薦状再依頼。自然研に受け入れ可否について確認依頼。 | AE13: nils.lange@ovgu.de | AH13: コンピュータ科学 | AI13: 37801 | AJ13: =DATEDIF(AI13,H13,"y") -> 23 | AK13: 男 | AL13: 1
A14: 9 | B14: VIZBARAITE Jovile | C14: ヴィズバライテ ヨヴィレ | D14: ヴィズバライテ ヨヴィレ | F14: 国際交流センター | G14: 特別聴講学生 | H14: 46285 | I14: 46630 | J14: リトアニア | K14: 731 | L14: Vilnius University | M14: ヴィリニュス大学 | N14: ● | O14: 2 | P14: 1 | Q14: 1 | R14: ● | S14: ● | T14: ● | U14: ● | V14: 2.92 | W14: 2.94 | X14: ● | Y14: ● | AB14: ● | AE14: jovile.vizbaraite@fsf.stud.vu.lt | AH14: アジア研究（日本研究） | AI14: 38451 | AJ14: =DATEDIF(AI14,H14,"y") -> 21 | AK14: 女 | AL14: 2
A15: 10 | B15: BURAVKOVA Sofija | C15: ブラフコヴァ ソフィア | D15: ブラフコヴァ ソフィア | F15: 国際交流センター | G15: 特別聴講学生 | H15: 46285 | I15: 46446 | J15: リトアニア | K15: 731 | L15: Vilnius University | M15: ヴィリニュス大学 | N15: × | O15: 1 | P15: 2 | Q15: 2 | R15: ● | S15: ● | T15: ● | U15: ● | V15: 2.75 | W15: 2.78 | X15: ● | Y15: ● | AB15: ● | AE15: sofija.buravkova@fsf.stud.vu.lt | AH15: アジア研究 | AI15: 38804 | AJ15: =DATEDIF(AI15,H15,"y") -> 20 | AK15: 女 | AL15: 2
A16: 11 | B16: NGUYEN Dieu Anh | C16: グエン ジエウ アイン | D16: グエン ジエウ アイン | F16: 国際交流センター | G16: 特別聴講学生 | H16: 46285 | I16: 46446 | J16: ベトナム | K16: 115 | L16: Hanyang University | M16: 漢陽大学（ソウル） | N16: × | O16: 1 | P16: 1 | Q16: 1 | R16: ● | S16: ● | T16: ● | U16: ● | V16: 3 | W16: 3 | X16: ● | Z16: ● | AC16: ● | AD16: カタカナ名なし。 | AE16: danhnguyen22399@gmail.com | AH16: 韓国・アジア地域ビジネス研究 | AI16: 36241 | AJ16: =DATEDIF(AI16,H16,"y") -> 27 | AK16: 女 | AL16: 2
A17: 12 | B17: YANG Chu-Shiuan | C17: ヤン チュウシュエン | D17: イエン チュウシュエン | E17: 楊 楚璿 | F17: 国際交流センター | G17: 特別聴講学生 | H17: 46285 | I17: 46630 | J17: 台湾 | K17: 122 | L17: National University of Kaohsiung | M17: 国立高雄大学 | N17: ● | O17: 2 | P17: 1 | Q17: 1 | R17: ● | S17: ● | T17: ● | U17: ● | V17: 2.61 | W17: 2.64 | X17: ● | Y17: ● | AB17: ● | AD17: 写真なし | AE17: tommy0104yang@gmail.com | AH17: 産業経営学 | AI17: 38721 | AJ17: =DATEDIF(AI17,H17,"y") -> 20 | AK17: 男 | AL17: 1
A18: 13 | B18: COTTON Harrison Thomas | C18: コットン ハリソン トーマス | D18: コットン ハリソン トーマス | F18: 国際交流センター | G18: 特別聴講学生 | H18: 46285 | I18: 46446 | J18: アメリカ合衆国 | K18: 502 | L18: University of Rhode Island | M18: ロードアイランド大学 | N18: ● | O18: 1 | P18: 1 | Q18: 2 | R18: ● | S18: ● | T18: ● | U18: ● | V18: 2.69 | W18: 3 | X18: ● | Z18: ● | AB18: ● | AD18: 推薦状と申請書の卒業予定月が違う→推薦状が正しい。顔写真状態×。志望理由・学習計画語数不足。 | AE18: defenderofall2@gmail.com | AH18: 海洋工学／日本語地域研究 | AI18: 37920 | AJ18: =DATEDIF(AI18,H18,"y") -> 22 | AK18: 男 | AL18: 1
A19: 14 | B19: EZELL Ann Mckenzie | C19: イゼル アン マッケンジー | D19: イゼル アン マッケンジー | F19: 国際交流センター | G19: 特別聴講学生 | H19: 46285 | I19: 46446 | J19: アメリカ合衆国 | K19: 502 | L19: University of Rhode Island | M19: ロードアイランド大学 | N19: × | O19: 1 | P19: 2 | Q19: 1 | R19: ● | S19: ● | T19: ● | U19: ● | V19: 2.93 | W19: 3 | X19: ● | Y19: ● | AB19: ● | AD19: 健康診断書治療・投薬の必要あり。 | AE19: aezell2003@gmail.com | AH19: 海洋工学／日本語地域研究 | AI19: 37920 | AJ19: =DATEDIF(AI19,H19,"y") -> 22 | AK19: 女 | AL19: 2
A20: 15 | B20: JOZWIK Gabriela | C20: ユジビク ガブリエラ | D20: ユジビク ガブリエラ | F20: 国際交流センター | G20: 特別聴講学生 | H20: 46285 | I20: 46446 | J20: ポーランド | K20: 721 | L20: University of Lodz | M20: ウッジ大学 | N20: ● | O20: 1 | P20: 1 | Q20: 1 | R20: ● | S20: ● | T20: ● | U20: ● | V20: 2.78 | W20: 3 | X20: ● | Y20: ● | AC20: ● | AD20: カタカナ名記載なし。志望理由・学習計画語数不足。 | AE20: gabriela.jozwik@edu.uni.lodz.pl | AH20: アジア研究 | AI20: 37908 | AJ20: =DATEDIF(AI20,H20,"y") -> 22 | AK20: 女 | AL20: 2
A21: 16 | B21: BUSS Dominik Maciej | C21: バス ドミニク マチェイ | D21: バス ドミニク マチュイ | F21: 国際交流センター | G21: 特別聴講学生 | H21: 46285 | I21: 46446 | J21: ポーランド | K21: 721 | L21: University of Lodz | M21: ウッジ大学 | N21: ● | O21: 1 | P21: 2 | Q21: 2 | R21: ● | S21: ● | T21: ● | U21: ● | V21: 2.44 | W21: 2.67 | X21: ● | Y21: ● | AB21: ● | AE21: domino.buss@gmail.com | AH21: アジア研究 | AI21: 2004/06/30 | AJ21: =DATEDIF(AI21,H21,"y") -> 22 | AK21: 男 | AL21: 1
A22: 17 | B22: TEERAWANICHTRAKUL Teeradon | C22: ティーラワニッタグール ティーラドン | D22: ティーラワニッタグール ティーラドン | F22: 国際交流センター | G22: 特別聴講学生 | H22: 46285 | I22: 46630 | J22: タイ | K22: 107 | L22: Thammasat University | M22: タマサート大学 | N22: × | O22: 2 | P22: 1 | Q22: 1 | R22: ● | S22: ● | T22: ● | U22: ● | V22: 2.83 | W22: 2.82 | X22: ● | Z22: ● | AB22: ● | AD22: 推薦状と申請書の卒業予定月が違う→推薦状が正しい。健康診断治療・投薬の必要あり。GPA2.09。推薦状と計画書の提出を依頼。 | AE22: winteeradon@gmail.com | AH22: 日本語 | AI22: 37664 | AJ22: =DATEDIF(AI22,H22,"y") -> 23 | AK22: 男 | AL22: 1
A23: 18 | B23: BERBER Ezgi Su | C23: ベルベル エズキ ス | D23: ベルベル エズキ ス | F23: 国際交流センター | G23: 特別聴講学生 | H23: 46285 | I23: 46630 | J23: トルコ | K23: 202 | L23: Ankara University | M23: アンカラ大学 | N23: × | O23: 2 | P23: 1 | Q23: 1 | R23: ● | S23: ● | T23: ● | U23: ● | V23: 2.51 | W23: 2.1 | X23: ● | Z23: ● | AB23: ● | AD23: 推薦状と申請書の卒業予定月が違う。GPA2.1。推薦状と計画書の提出を依頼。 | AE23: ezgisuberber11@gmail.com | AH23: 日本語・日本文学 | AI23: 38118 | AJ23: =DATEDIF(AI23,H23,"y") -> 22 | AK23: 女 | AL23: 2
A24: 19 | B24: GULER Gozde | C24: ギュレル ギョズデ | D24: ギュレル ギョズデ | F24: 国際交流センター | G24: 特別聴講学生 | H24: 46285 | I24: 46630 | J24: トルコ | K24: 202 | L24: Ankara University | M24: アンカラ大学 | N24: × | O24: 2 | P24: 2 | Q24: 2 | R24: ● | S24: ● | T24: ● | U24: ● | V24: 2.51 | W24: 2.5 | X24: ● | Z24: ● | AB24: ● | AD24: 推薦状と申請書の卒業予定年月が違う→推薦状が正しい。志願書名カタカナなし。 | AE24: gulerggozde@gmail.com | AH24: 日本語・日本文学 | AI24: 38180 | AJ24: =DATEDIF(AI24,H24,"y") -> 22 | AK24: 女 | AL24: 2
A25: 20 | B25: OGUZ Busra | C25: オグズ ビュシラ | D25: オグズ ビュシラ | F25: 国際交流センター | G25: 特別聴講学生 | H25: 46285 | I25: 46630 | J25: トルコ | K25: 202 | L25: Ankara University | M25: アンカラ大学 | N25: ● | O25: 2 | P25: 3 | Q25: 3 | R25: ● | S25: ● | T25: ● | U25: ● | V25: 2.63 | W25: 2.7 | X25: ● | Z25: ● | AB25: ● | AD25: 推薦状と申請書の卒業予定年月が違う→推薦状が正しい。 | AE25: busraoguz2004@gmail.com | AH25: 日本語・日本文学 | AI25: 38078 | AJ25: =DATEDIF(AI25,H25,"y") -> 22 | AK25: 女 | AL25: 2
A26: 21 | B26: SIMSEK Azra | C26: シムエック アズラ | D26: シムエック アズラ | F26: 国際交流センター | G26: 特別聴講学生 | H26: 46285 | I26: 46630 | J26: トルコ | K26: 202 | L26: Ankara University | M26: アンカラ大学 | N26: × | O26: 2 | P26: 4 | Q26: 4 | R26: ● | S26: ● | T26: ● | U26: ● | V26: 2.8 | W26: 2.75 | X26: ● | Z26: ● | AB26: ● | AD26: 推薦状と申請書の卒業予定年月が違う→推薦状が正しい。 | AE26: simsek.azr@gmail.com | AH26: 日本語・日本文学 | AI26: 38355 | AJ26: =DATEDIF(AI26,H26,"y") -> 21 | AK26: 女 | AL26: 2
A27: 22 | B27: PENG Feng-Tzu | C27: ポン フォンツ | D27: ペン フェンツー | E27: 彭 鳳慈 | F27: 国際交流センター | G27: 特別聴講学生 | H27: 46285 | I27: 46630 | J27: 台湾 | K27: 122 | L27: National Yunlin University of Science & Technology | M27: 国立雲林科技大学（UMAP) | N27: ● | O27: 2 | P27: 1 | Q27: 1 | R27: ● | S27: ● | T27: ● | U27: ● | V27: 3 | W27: 3 | X27: ● | Y27: ● | AB27: ● | AD27: パスポート遅れる。2～3週間かかる（5/13) | AE27: a47155080@gmail.com | AH27: 財務金融学科 | AI27: 2004/12/16 | AJ27: =DATEDIF(AI27,H27,"y") -> 21 | AK27: 女 | AL27: 2
A28: 23 | B28: MORENO GARCIA Enrique | C28: モレノ ガルシア エンリケ | D28: モレノ ガルシア エンリケ | F28: 国際交流センター | G28: 特別聴講学生 | H28: 46285 | I28: 46630 | J28: メキシコ | K28: 601 | L28: nstituto Tecnologico de Sonora | M28: ソノラ工業大学（UMAP） | N28: ● | O28: 2 | P28: 1 | Q28: 1 | R28: ● | S28: ● | T28: ● | U28: ● | V28: 3 | W28: 2.75 | X28: ● | Z28: ● | AB28: ● | AD28: 推薦状と申請書の卒業予定月が違う→申請書が正しい（推薦状再提出待ち）。成績証明書単位数。 | AE28: enriquemorenogarcia@outlook.es | AH28: 経営工学・システム工学 | AI28: 38328 | AJ28: =DATEDIF(AI28,H28,"y") -> 21 | AK28: 男 | AL28: 1
A29: 24 | B29: LI Xinyi | C29: リ キンイ | D29: リ シンイ | E29: 李 欣怡 | F29: 国際交流センター | G29: 特別聴講学生 | H29: 46285 | I29: 46630 | J29: 中国 | K29: 116 | L29: Tianjin Foreign Studies University | M29: 天津外国語大学 | N29: ● | O29: 2 | P29: 1 | Q29: 1 | R29: ● | S29: ● | T29: ● | U29: ● | V29: 2.95 | W29: 2.97 | X29: ● | Y29: ● | AB29: ● | AE29: 3132845667@qq.com | AH29: 日本語 | AI29: 38638 | AJ29: =DATEDIF(AI29,H29,"y") -> 20 | AK29: 女 | AL29: 2
A30: 25 | B30: YU Huina | C30: ウ エナ | D30: ユ ホイナ | E30: 于 蕙娜 | F30: 国際交流センター | G30: 特別聴講学生 | H30: 46285 | I30: 46630 | J30: 中国 | K30: 116 | L30: Tianjin Foreign Studies University | M30: 天津外国語大学 | N30: ● | O30: 2 | P30: 2 | Q30: 2 | R30: ● | S30: ● | T30: ● | U30: ● | V30: 2.82 | W30: 2.88 | X30: ● | Y30: ● | AB30: ● | AE30: Georgianayugalaxy@qq.com | AH30: 日本語 | AI30: 38460 | AJ30: =DATEDIF(AI30,H30,"y") -> 21 | AK30: 女 | AL30: 2
A31: 26 | B31: SHILI, Aimen | F31: 国際交流センター | G31: 特別聴講学生 | H31: 46285 | I31: 46630 | J31: ドイツ | K31: 711 | L31: Bielefeld University | M31: ビーレフェルト大学 | N31: ● | O31: 2 | P31: 1 | Q31: 1 | R31: ● | S31: ● | T31: ● | U31: ● | V31: 2.57 | X31: ● | Y31: ● | AB31: ● | AD31: カタカナ名なし。推薦状と申請書の卒業予定年月・学習期間が違う。 | AE31: aimen.shili@uni-bielefeld.de | AH31: 歴史・哲学・神学 | AI31: 38129 | AJ31: =DATEDIF(AI31,H31,"y") -> 22 | AK31: 男 | AL31: 1
A32: 27 | B32: CHABALOWITZ, Chiara Natascha | C32: チャバロヴィッツ キアラ ナターシャ | F32: 国際交流センター | G32: 特別聴講学生 | H32: 46285 | I32: 46446 | J32: ドイツ | K32: 711 | L32: Bielefeld University | M32: ビーレフェルト大学 | N32: ● | O32: 1 | P32: 2 | Q32: 2 | R32: ● | S32: ● | T32: ● | V32: 1.91 | Z32: ● | AB32: ● | AD32: 推薦状と申請書の卒業予定月が違う。GPA1.91。パスポートなし。健康診断書様式不使用。CoE高校記載なし。志望理由・学習計画語数不足。 | AE32: chiara.lowitz@gmail.com | AH32: 文学・英語学・視覚研究 | AI32: 37140 | AJ32: =DATEDIF(AI32,H32,"y") -> 25 | AK32: 女 | AL32: 2
A33: 28
A34: 29
A35: 30
A36: 31
A37: 32
A38: 33
A39: 34
A40: 35
A41: 36
A42: 37
A43: 38
A44: 39
... A57: 52
